BEGIN:VCALENDAR
VERSION:2.0
PRODID:-//Future Perfect Wine - ECPv6.15.20//NONSGML v1.0//EN
CALSCALE:GREGORIAN
METHOD:PUBLISH
X-WR-CALNAME:Future Perfect Wine
X-ORIGINAL-URL:https://futureperfectwine.com
X-WR-CALDESC:Events for Future Perfect Wine
REFRESH-INTERVAL;VALUE=DURATION:PT1H
X-Robots-Tag:noindex
X-PUBLISHED-TTL:PT1H
BEGIN:VTIMEZONE
TZID:America/Los_Angeles
BEGIN:DAYLIGHT
TZOFFSETFROM:-0800
TZOFFSETTO:-0700
TZNAME:PDT
DTSTART:20240310T100000
END:DAYLIGHT
BEGIN:STANDARD
TZOFFSETFROM:-0700
TZOFFSETTO:-0800
TZNAME:PST
DTSTART:20241103T090000
END:STANDARD
BEGIN:DAYLIGHT
TZOFFSETFROM:-0800
TZOFFSETTO:-0700
TZNAME:PDT
DTSTART:20250309T100000
END:DAYLIGHT
BEGIN:STANDARD
TZOFFSETFROM:-0700
TZOFFSETTO:-0800
TZNAME:PST
DTSTART:20251102T090000
END:STANDARD
BEGIN:DAYLIGHT
TZOFFSETFROM:-0800
TZOFFSETTO:-0700
TZNAME:PDT
DTSTART:20260308T100000
END:DAYLIGHT
BEGIN:STANDARD
TZOFFSETFROM:-0700
TZOFFSETTO:-0800
TZNAME:PST
DTSTART:20261101T090000
END:STANDARD
BEGIN:DAYLIGHT
TZOFFSETFROM:-0800
TZOFFSETTO:-0700
TZNAME:PDT
DTSTART:20270314T100000
END:DAYLIGHT
BEGIN:STANDARD
TZOFFSETFROM:-0700
TZOFFSETTO:-0800
TZNAME:PST
DTSTART:20271107T090000
END:STANDARD
END:VTIMEZONE
BEGIN:VEVENT
DTSTART;TZID=America/Los_Angeles:20251029T170000
DTEND;TZID=America/Los_Angeles:20251029T190000
DTSTAMP:20260420T044815
CREATED:20250904T215015Z
LAST-MODIFIED:20251005T134404Z
UID:1381-1761757200-1761764400@futureperfectwine.com
SUMMARY:Future Perfect Winemaker Takeover at Mattei's Tavern
DESCRIPTION:Saddle up for a sparkling night at Mattei’s Tavern as Sunshine takes over the bar\, pouring Future Perfect wines by the glass for just $10. Sunny will be dazzling in denim and diamonds and we invite y’all to join the fun by dressing to theme. Pull on your boots\, add a little sparkle\, and meet us at the Rhinestone Rodeo!
URL:https://futureperfectwine.com/event/future-perfect-winemaker-takeover-at-matteis-tavern/
LOCATION:Mattei’s Tavern\, 2350 Railway Avenue\, Los Olivos\, 93441\, United States
ATTACH;FMTTYPE=image/png:https://futureperfectwine.com/wp-content/uploads/2025/09/Rhinestone.png
END:VEVENT
BEGIN:VEVENT
DTSTART;TZID=America/Los_Angeles:20251206T150000
DTEND;TZID=America/Los_Angeles:20251206T170000
DTSTAMP:20260420T044815
CREATED:20250709T231222Z
LAST-MODIFIED:20251105T223341Z
UID:1362-1765033200-1765040400@futureperfectwine.com
SUMMARY:Holiday Sip & Shop at the Future Perfect Tasting Room
DESCRIPTION:Join us from 3–5 PM in front of the Future Perfect Tasting Room for a cheerful Holiday Market!We’re bringing together a curated lineup of unique vendors\, each offering something special\, to help you kickstart your holiday shopping! Jessica Foster Confections\, Eat Happy Kitchen by Anna Vocino\, Aubrey Ashburn Fine Art\, 27 Vines Pottery by Dianne Dominguez\, Author Adam McHugh\, and more! From handmade goods to thoughtful gifts\, you’ll find the perfect presents for everyone on your list. \nIt’s all happening just before the Los Olivos tree lighting\, so swing by to sip\, shop\, and soak up the festive vibes!
URL:https://futureperfectwine.com/event/holiday-sip-shop-at-the-future-perfect-tasting-room/
LOCATION:Future Perfect Tasting Room\, 2933 San Marcos Ave #101\, Los Olivos\, CA\, 93441\, United States
ATTACH;FMTTYPE=image/png:https://futureperfectwine.com/wp-content/uploads/2025/07/Holiday-Sip-and-Shop-2025.png
ORGANIZER;CN="Future Perfect Wine":MAILTO:info@futureperfectwine.com
END:VEVENT
BEGIN:VEVENT
DTSTART;TZID=America/Los_Angeles:20251207T110000
DTEND;TZID=America/Los_Angeles:20251207T130000
DTSTAMP:20260420T044815
CREATED:20251022T200325Z
LAST-MODIFIED:20251023T222946Z
UID:1394-1765105200-1765112400@futureperfectwine.com
SUMMARY:Bubbly Brunch at Diamond Sky Ranch
DESCRIPTION:Click HERE for tickets! Spend the morning with us at Diamond Sky Ranch with live music performed by Patrick Barnitt\, a seasonal brunch from Chef Joy\, and a curated lineup of Future Perfect Wines. Patrick Barnitt is an American singer\, composer\, producer\, and actor who has performed and/or recorded with many jazz luminaries. Join us for a sparkling start to your day!! \n*Wine Club & Bubble Club Discount will apply when you are logged in* \n  \nCall (805) 697-7162 or email gillian@futureperfectwine.com with any questions
URL:https://futureperfectwine.com/event/bubbly-brunch-at-diamond-sky-ranch/
LOCATION:Diamond Sky Ranch\, Buellton\, CA\, United States
ATTACH;FMTTYPE=image/png:https://futureperfectwine.com/wp-content/uploads/2025/10/1.png
ORGANIZER;CN="Future Perfect Wine":MAILTO:info@futureperfectwine.com
END:VEVENT
BEGIN:VEVENT
DTSTART;TZID=America/Los_Angeles:20260131T120000
DTEND;TZID=America/Los_Angeles:20260131T150000
DTSTAMP:20260420T044815
CREATED:20260104T020411Z
LAST-MODIFIED:20260104T021742Z
UID:1422-1769860800-1769871600@futureperfectwine.com
SUMMARY:Future Perfect Pouring at "Open House Open Bottle" Wine Festival in Buellton
DESCRIPTION:Future Perfect will be pouring some delish along with other small Santa Barbara County Wineries at this exciting festival from 12pm – 3pm that includes Live Music and catered food by Clean Slate! \nSAVE $50 ON EACH TICKET WITH PROMO CODE: FutureP \nYou won’t want to miss the opportunity to be introduced to very special\, small producers – some who don’t have tasting rooms\, but are making unique\, delicious wines! \n 
URL:https://futureperfectwine.com/event/future-perfect-pouring-at-open-house-open-bottle-wine-festival-in-buellton/
LOCATION:Easy Street Wine Collective\, 90 Easy Street\, Buellton\, 93427\, United States
ATTACH;FMTTYPE=image/png:https://futureperfectwine.com/wp-content/uploads/2026/01/OHOB-Future-Perfect-code-scaled.png
END:VEVENT
BEGIN:VEVENT
DTSTART;TZID=America/Los_Angeles:20260214T190000
DTEND;TZID=America/Los_Angeles:20260214T210000
DTSTAMP:20260420T044815
CREATED:20260214T160527Z
LAST-MODIFIED:20260214T160527Z
UID:1432-1771095600-1771102800@futureperfectwine.com
SUMMARY:Corkscrew Comedy Valentine's Show featuring Future Perfect at Zaca Creek Tavern *SOLD OUT*
DESCRIPTION:Love is in the air…so grab your valentine\, your galentine\, or whoever is answering your texts… \nAnd join us for a night of Valentine’s Day stand-up comedy laughs at The Buellhouse at Zaca Creek Tavern on February 14th! \nDoors open at 6pm\, and the show starts at 7pm. There will be drinks\, jokes\, and at least one couple will re-evaluate their life choices\, so be ready to giggle because nothing says romance like snort-laughing pinot through your nose. \nDrinks \n\nFuture Perfect Wine\nCraft Cocktails\n\nSmall Bites \n\nBurata & Fig Salad 🩷 Scallops & Strawberry Carpaccio 🩷 Duck Carpaccio 🩷 Beef Carpaccio 🩷 Caviar Dip & Chips 🩷 Prosciutto Grinder 🩷 Zatar Carrots with Hummus & Chimichurri\n\nDeserts \n\nChocolate Strawberries 🩷 Cookies & Brownies 🩷 Cheesecake
URL:https://futureperfectwine.com/event/corkscrew-comedy-valentines-show-featuring-future-perfect-at-zaca-creek-tavern-sold-out/
LOCATION:Zaca Creek Tavern\, 1297 Jonata Park Road\, Buellton\, CA\, 93427\, United States
ATTACH;FMTTYPE=application/pdf:https://futureperfectwine.com/wp-content/uploads/2026/02/CorkscrewComedy_Poster_8.5x11.jpeg-1.pdf
END:VEVENT
BEGIN:VEVENT
DTSTART;TZID=America/Los_Angeles:20260215T110000
DTEND;TZID=America/Los_Angeles:20260215T130000
DTSTAMP:20260420T044815
CREATED:20260214T161948Z
LAST-MODIFIED:20260214T161948Z
UID:1438-1771153200-1771160400@futureperfectwine.com
SUMMARY:MEMBERS ONLY PRIVATE EVENT
DESCRIPTION:We will be closing the Future Perfect Tasting Room for a MEMBERS ONLY to enjoy a PRIVATE EVENT on Sunday\, February 15th from 11am 1pm. \nWe invite our Wine Club Members and friends to join us for Brand New Releases\, Familiar Favorites and Fresh Tacos from Tacos Amigos! \nEveryone in attendance will receive a complimentary Raffle Ticket for a Raffle Basket containing hundreds of dollars in Future Perfect delish and merch! And if you haven’t met Rebekah and Marelina\, Future Perfect’s new Tasting Room beacons of joy and wine ambassadors – they will both be there to celebrate with us! \nWe can’t wait to roll out the new wines in this new year with all of you!
URL:https://futureperfectwine.com/event/members-only-private-event/
LOCATION:Future Perfect Tasting Room\, 2933 San Marcos Ave #101\, Los Olivos\, CA\, 93441\, United States
ATTACH;FMTTYPE=image/jpeg:https://futureperfectwine.com/wp-content/uploads/2026/02/Wine-Club-New-Release-Celebration-1-1.jpeg
ORGANIZER;CN="Future Perfect Wine":MAILTO:info@futureperfectwine.com
END:VEVENT
BEGIN:VEVENT
DTSTART;TZID=America/Los_Angeles:20260307T110000
DTEND;TZID=America/Los_Angeles:20260307T140000
DTSTAMP:20260420T044815
CREATED:20260214T172036Z
LAST-MODIFIED:20260214T172036Z
UID:1442-1772881200-1772892000@futureperfectwine.com
SUMMARY:Annual Women Winemakers & Culinarians Grand Tasting Wine & Food Event
DESCRIPTION:Join us for the Annual Women Winemakers & Culinarians Grand Tasting Event! \nSanta Barbara County has\, arguably\, MORE female winemakers than anywhere in the WORLD!! And every year\, these women gather together with their female culinary colleagues to share their hand-crafted delish with all of YOU! \nMeet the MAKERS! Always the 1st Saturday of March to celebrate International Women’s Day\, the largest gathering of Women Winemakers\, Chefs & Culinarians of Santa Barbara County (NOT assistants or representatives\, but THE MAKERS\, themselves!) gather together to share what they have been pouring their hearts and time and energy and money and life and love into\, in order to celebrate with each of you. \nSunshine is excited to be there sharing her Future Perfect wine & bubbles and you can check out the other extraordinary women who will also be in attendance by visiting www.SBWomenWinemakers.com\, where you can also get tickets – while they last! \nCheers!
URL:https://futureperfectwine.com/event/annual-women-winemakers-culinarians-grand-tasting-wine-food-event/
LOCATION:27 Vines\, 2045 N Refugio Road\, Santa Ynez\, CA\, 93460\, United States
ATTACH;FMTTYPE=image/png:https://futureperfectwine.com/wp-content/uploads/2026/02/Grand-Tasting-A4-Poster-04.png
END:VEVENT
BEGIN:VEVENT
DTSTART;VALUE=DATE:20260320
DTEND;VALUE=DATE:20260323
DTSTAMP:20260420T044815
CREATED:20260309T181621Z
LAST-MODIFIED:20260309T181741Z
UID:1449-1773964800-1774223999@futureperfectwine.com
SUMMARY:Join Us for the Future Perfect 2025 Porch Pounder Rosé Release!
DESCRIPTION:Everything’s coming up Rosés! FINALLY!! 😉 \nPlease join us at the Future Perfect Tasting Room all weekend March 20th – 22nd from 11am – 5pm for the 2025 Porch Pounder Rosé Release! \n*WEAR PINK to be entered into a Raffle!
URL:https://futureperfectwine.com/event/join-us-for-the-2025-porch-pounder-rose-release/
LOCATION:Future Perfect Tasting Room\, 2933 San Marcos Avenue\, Suite 101\, Los Olivos\, CA\, 93441\, United States
ATTACH;FMTTYPE=image/png:https://futureperfectwine.com/wp-content/uploads/2026/03/2025-Porch-Pounder-Release-Future-Perfect.png
ORGANIZER;CN="Future Perfect Wine":MAILTO:info@futureperfectwine.com
END:VEVENT
BEGIN:VEVENT
DTSTART;TZID=America/Los_Angeles:20260411T170000
DTEND;TZID=America/Los_Angeles:20260411T210000
DTSTAMP:20260420T044815
CREATED:20260214T173423Z
LAST-MODIFIED:20260216T073908Z
UID:1446-1775926800-1775941200@futureperfectwine.com
SUMMARY:Denim & Diamonds Red Carpet Celebration
DESCRIPTION:Denim & Diamonds – Celebrating the WINDS Beneath Our Wings \nGet your sparkle on with your best fancy dress and snazzy cowboy boots as you hit the red carpet! Mosey up to the bar for complimentary wine and cocktails\, and then sit down to a four-course meal\, paired with wines from the Santa Barbara County Women Winemakers. We’ll honor our 2026 WINDS Beneath our Wings this evening\, and proceeds will help fund this initiative. \nEach year\, we honor the often-unsung women whose work makes winemakers and chefs shine. From sous chefs and assistant winemakers to viticulturists and retail leaders\, these behind-the-spotlight heroes are celebrated for their talent\, dedication\, and essential role in shaping the world of wine and food. Those who work quietly behind the scenes – the women whose hands\, hearts\, and hard work make it all possible. The Winds Beneath Our Wings program was created to honor these remarkable contributors. \nThe Celebrated 2026 WINDS Recipients are: \nBarbara Perneel              Lead Decorator\, Solvang Bakery \nCarina Crowder              Assistant Winemaker\, Margerum Wine Company \nMegan Bravo                    Director of Hospitality & Sales\, Melville and the Santa Barbara County DTC Group Founder/Leader \nEmily Byram                     Events Director\, Santa Barbara Vintners Association & Vintners Foundation \n*The 2025 WINDS Film has proudly received the 2026 AVA Award for “BEST FILM DOCUMENTARY” and the Women Winemakers & Culinarians Foundation has been awarded the Female Executive Producers of the Female Documentary 
URL:https://futureperfectwine.com/event/denim-diamonds-red-carpet-celebration/
LOCATION:Zaca Creek Tavern\, 1297 Jonata Park Road\, Buellton\, CA\, 93427\, United States
ATTACH;FMTTYPE=image/png:https://futureperfectwine.com/wp-content/uploads/2026/02/Denim-Diamonds-A4-Poster-01.png
END:VEVENT
BEGIN:VEVENT
DTSTART;TZID=America/Los_Angeles:20260503T110000
DTEND;TZID=America/Los_Angeles:20260503T130000
DTSTAMP:20260420T044815
CREATED:20260328T200850Z
LAST-MODIFIED:20260330T151416Z
UID:1454-1777806000-1777813200@futureperfectwine.com
SUMMARY:Spring High Tea & Bubbles
DESCRIPTION:Guys & Gals – Join us for a Beautiful Tea Party & Bubbles at Diamond Sky Ranch! \nChef Joy is returning to create a classic “High Tea” Spread with a fresh Spring salad\, sandwiches\, sweets & bites that will compliment the curated lineup of Future Perfect Still & Sparkling wines! \nThe Brunch will be presented and enjoyed on French table linens and antique dishes\, silver flatware and all the proper high tea essentials. \nWe will also have an extensive collection of Harney & Sons loose leaf teas\, so you can select your preferred antique cup and saucer and tea for your afternoon tea enjoyment. \nThe dress will be Tea Party\, Spring-inspired. But\, as ever\, come as you are! We are excited to celebrate with you on the top of the mountain! \n  \n 
URL:https://futureperfectwine.com/event/spring-high-tea-bubbles/
LOCATION:Diamond Sky Ranch\, Buellton\, CA\, United States
ATTACH;FMTTYPE=image/jpeg:https://futureperfectwine.com/wp-content/uploads/2026/03/May-3rd-DSR-Event-3.jpeg
ORGANIZER;CN="Future Perfect Wine":MAILTO:info@futureperfectwine.com
END:VEVENT
BEGIN:VEVENT
DTSTART;VALUE=DATE:20260808
DTEND;VALUE=DATE:20260809
DTSTAMP:20260420T044815
CREATED:20260214T174603Z
LAST-MODIFIED:20260214T174603Z
UID:1447-1786147200-1786233599@futureperfectwine.com
SUMMARY:BRO-BQ - Back By Popular Demand - The Boys are Back In Town!
DESCRIPTION:Save the Date – you won’t want to miss the\, Now Annual\, BRO-BQ! \nThe supportive men of the WWCF are back at it\, with ALL the meats (and some vegetables will likely be represented). 😉 \nTruly a MEAT-LOVERS FANTASY!! This is a fabulous day of food\, friendship and fun at The Barn in Los Olivos!
URL:https://futureperfectwine.com/event/bro-bq-back-by-popular-demand-the-boys-are-back-in-town/
LOCATION:The Barn\, 2625 Santa Barbara Ave\, Los Olivos\, CA\, 93441\, United States
ATTACH;FMTTYPE=image/png:https://futureperfectwine.com/wp-content/uploads/2026/02/BroBQ-A4-Poster-02.png
END:VEVENT
END:VCALENDAR